BEGIN:VCALENDAR
VERSION:2.0
PRODID:-//Maryland New Directions - ECPv6.15.20//NONSGML v1.0//EN
CALSCALE:GREGORIAN
METHOD:PUBLISH
X-WR-CALNAME:Maryland New Directions
X-ORIGINAL-URL:https://mdnewdirections.org
X-WR-CALDESC:Events for Maryland New Directions
REFRESH-INTERVAL;VALUE=DURATION:PT1H
X-Robots-Tag:noindex
X-PUBLISHED-TTL:PT1H
BEGIN:VTIMEZONE
TZID:UTC
BEGIN:STANDARD
TZOFFSETFROM:+0000
TZOFFSETTO:+0000
TZNAME:UTC
DTSTART:20240101T000000
END:STANDARD
END:VTIMEZONE
BEGIN:VEVENT
DTSTART;TZID=UTC:20251022T130000
DTEND;TZID=UTC:20251022T140000
DTSTAMP:20260421T213350
CREATED:20250918T164702Z
LAST-MODIFIED:20250930T181918Z
UID:6355-1761138000-1761141600@mdnewdirections.org
SUMMARY:MTDL Orientation
DESCRIPTION:Our Maritime\, Transportation\, Distribution & Logistics (MTDL) program provides three weeks (90 hours) of quality instruction to help individuals interested in working in manufacturing\, production\, warehousing\, and supply chain industries establish careers in these fields. \nParticipants registered and enrolled in the November Maritime\, Transportation\, Distribution & Logistics (MTDL) training cohort must attend a mandatory one-hour Orientation to learn more about the training program\, logistics\, and expectations in preparation for the training.
URL:https://mdnewdirections.org/events/mtdl-orientation-2025-10/
LOCATION:Maryland New Directions\, 2305 N. Charles Street\, Suite 100\, Baltimore\, MD\, 21218\, United States
CATEGORIES:Orientation
ORGANIZER;CN="Maryland New Directions":MAILTO:info@mdnewdirections.org
END:VEVENT
END:VCALENDAR