BEGIN:VCALENDAR
VERSION:2.0
PRODID:-//Maryland New Directions - ECPv6.15.20//NONSGML v1.0//EN
CALSCALE:GREGORIAN
METHOD:PUBLISH
X-WR-CALNAME:Maryland New Directions
X-ORIGINAL-URL:https://mdnewdirections.org
X-WR-CALDESC:Events for Maryland New Directions
REFRESH-INTERVAL;VALUE=DURATION:PT1H
X-Robots-Tag:noindex
X-PUBLISHED-TTL:PT1H
BEGIN:VTIMEZONE
TZID:UTC
BEGIN:STANDARD
TZOFFSETFROM:+0000
TZOFFSETTO:+0000
TZNAME:UTC
DTSTART:20250101T000000
END:STANDARD
END:VTIMEZONE
BEGIN:VEVENT
DTSTART;TZID=UTC:20260112T090000
DTEND;TZID=UTC:20260130T150000
DTSTAMP:20260421T175011
CREATED:20260225T182030Z
LAST-MODIFIED:20260225T202410Z
UID:6780-1768208400-1769785200@mdnewdirections.org
SUMMARY:MTDL Cohort
DESCRIPTION:Training takes place from January 12 to 30\, Monday through Friday from 9am – 3pm. \nOur Maritime\, Transportation\, Distribution & Logistics (MTDL) program provides three weeks (90 hours) of quality instruction to help individuals interested in working in manufacturing\, production\, warehousing\, and supply chain industries establish careers in these fields. Classes are held Monday through Friday from 9am-3pm. Attend an Information Session to learn more and register! Information sessions are held weekly on Tuesdays from 10-11am.
URL:https://mdnewdirections.org/events/mtdl-cohort-2026-01/
LOCATION:Maryland New Directions\, 2305 N. Charles Street\, Suite 100\, Baltimore\, MD\, 21218\, United States
CATEGORIES:Training
ORGANIZER;CN="Maryland New Directions":MAILTO:info@mdnewdirections.org
END:VEVENT
END:VCALENDAR