BEGIN:VCALENDAR
VERSION:2.0
PRODID:-//Maryland New Directions - ECPv6.15.20//NONSGML v1.0//EN
CALSCALE:GREGORIAN
METHOD:PUBLISH
X-WR-CALNAME:Maryland New Directions
X-ORIGINAL-URL:https://mdnewdirections.org
X-WR-CALDESC:Events for Maryland New Directions
REFRESH-INTERVAL;VALUE=DURATION:PT1H
X-Robots-Tag:noindex
X-PUBLISHED-TTL:PT1H
BEGIN:VTIMEZONE
TZID:UTC
BEGIN:STANDARD
TZOFFSETFROM:+0000
TZOFFSETTO:+0000
TZNAME:UTC
DTSTART:20230101T000000
END:STANDARD
END:VTIMEZONE
BEGIN:VEVENT
DTSTART;TZID=UTC:20240926T173000
DTEND;TZID=UTC:20240926T203000
DTSTAMP:20260422T022438
CREATED:20240826T230931Z
LAST-MODIFIED:20240828T161306Z
UID:5448-1727371800-1727382600@mdnewdirections.org
SUMMARY:MND's 6th Annual MVP Event
DESCRIPTION:Join us as we celebrate the accomplishments of our wonderful clients\, staff\, volunteers\, and partners at our annual MVP event! Meet the clients whose stories inspired us most this year and the dedicated individuals who helped make their success possible. Enjoy food and drink from our friends at Mt. Washington Tavern\, win great raffle prizes from local businesses\, and more! \n\n\nWith your support\, Maryland New Directions can offer opportunities for more Baltimore-area residents to access quality\, specialized career training at no cost. Whether you are a long-term supporter of MND or brand new to us\, this event is a great opportunity to learn more about our important\, life-changing work in a relaxed\, fun environment. Come see what we are all about and help make a difference in our community – buy your tickets today! \n\n\n\n\nPurchase Tickets Here\n\n\n\n\n\nSponsor this Event!\n\n\n\n\n\n\nMVP sponsorships are available from $500 – $2\,000. If you are a Maryland resident or a company based in Maryland\, you may qualify for a Maryland State Community Investment Tax Credit for some or all of your contribution! Please email Barbara Reed at breed@mdnewdirections.org to learn more.
URL:https://mdnewdirections.org/events/mnds-6th-annual-mvp-event/
LOCATION:Mt Washington Tavern\, 5700 Newberry Street\, Baltimore\, Maryland\, 21209
CATEGORIES:Featured Event
ATTACH;FMTTYPE=image/jpeg:https://mdnewdirections.org/wp-content/uploads/2024/04/Capture1-1.jpg
ORGANIZER;CN="Maryland New Directions":MAILTO:info@mdnewdirections.org
END:VEVENT
END:VCALENDAR