BEGIN:VCALENDAR
VERSION:2.0
PRODID:-//Maryland New Directions - ECPv6.15.20//NONSGML v1.0//EN
CALSCALE:GREGORIAN
METHOD:PUBLISH
X-WR-CALNAME:Maryland New Directions
X-ORIGINAL-URL:https://mdnewdirections.org
X-WR-CALDESC:Events for Maryland New Directions
REFRESH-INTERVAL;VALUE=DURATION:PT1H
X-Robots-Tag:noindex
X-PUBLISHED-TTL:PT1H
BEGIN:VTIMEZONE
TZID:UTC
BEGIN:STANDARD
TZOFFSETFROM:+0000
TZOFFSETTO:+0000
TZNAME:UTC
DTSTART:20200101T000000
END:STANDARD
END:VTIMEZONE
BEGIN:VEVENT
DTSTART;VALUE=DATE:20211231
DTEND;VALUE=DATE:20220101
DTSTAMP:20260422T040345
CREATED:20210804T220520Z
LAST-MODIFIED:20210804T220520Z
UID:2702-1640908800-1640995199@mdnewdirections.org
SUMMARY:MND Closed for the Holiday
DESCRIPTION:
URL:https://mdnewdirections.org/events/mnd-closed-for-the-holiday-4/
LOCATION:Maryland New Directions\, 2305 N. Charles Street\, Suite 100\, Baltimore\, MD\, 21218\, United States
CATEGORIES:Community
ORGANIZER;CN="Maryland New Directions":MAILTO:info@mdnewdirections.org
END:VEVENT
END:VCALENDAR