BEGIN:VCALENDAR
VERSION:2.0
PRODID:-//Maryland New Directions - ECPv6.15.20//NONSGML v1.0//EN
CALSCALE:GREGORIAN
METHOD:PUBLISH
X-WR-CALNAME:Maryland New Directions
X-ORIGINAL-URL:https://mdnewdirections.org
X-WR-CALDESC:Events for Maryland New Directions
REFRESH-INTERVAL;VALUE=DURATION:PT1H
X-Robots-Tag:noindex
X-PUBLISHED-TTL:PT1H
BEGIN:VTIMEZONE
TZID:UTC
BEGIN:STANDARD
TZOFFSETFROM:+0000
TZOFFSETTO:+0000
TZNAME:UTC
DTSTART:20240101T000000
END:STANDARD
END:VTIMEZONE
BEGIN:VEVENT
DTSTART;TZID=UTC:20250428T090000
DTEND;TZID=UTC:20250516T150000
DTSTAMP:20260421T230732
CREATED:20250226T225511Z
LAST-MODIFIED:20250226T225921Z
UID:5886-1745830800-1747407600@mdnewdirections.org
SUMMARY:MDTL Training
DESCRIPTION:Training takes place from April 28 to May 16\, Monday through Friday from 9am – 3pm. \nOur Maritime\, Transportation\, Distribution & Logistics (MTDL) program provides three weeks (90 hours) of quality instruction to help individuals interested in working in manufacturing\, production\, warehousing\, and supply chain industries establish careers in these fields. employment. \nLearn More
URL:https://mdnewdirections.org/events/mdtl-training-2025-04/
LOCATION:Maryland New Directions\, 2305 N. Charles Street\, Suite 100\, Baltimore\, MD\, 21218\, United States
CATEGORIES:Training
ORGANIZER;CN="Maryland New Directions":MAILTO:info@mdnewdirections.org
END:VEVENT
END:VCALENDAR