BEGIN:VCALENDAR
VERSION:2.0
PRODID:-//Maryland New Directions - ECPv6.15.20//NONSGML v1.0//EN
CALSCALE:GREGORIAN
METHOD:PUBLISH
X-WR-CALNAME:Maryland New Directions
X-ORIGINAL-URL:https://mdnewdirections.org
X-WR-CALDESC:Events for Maryland New Directions
REFRESH-INTERVAL;VALUE=DURATION:PT1H
X-Robots-Tag:noindex
X-PUBLISHED-TTL:PT1H
BEGIN:VTIMEZONE
TZID:UTC
BEGIN:STANDARD
TZOFFSETFROM:+0000
TZOFFSETTO:+0000
TZNAME:UTC
DTSTART:20200101T000000
END:STANDARD
END:VTIMEZONE
BEGIN:VEVENT
DTSTART;TZID=UTC:20211004T083000
DTEND;TZID=UTC:20211022T163000
DTSTAMP:20260422T022704
CREATED:20210804T215154Z
LAST-MODIFIED:20210804T215154Z
UID:2689-1633336200-1634920200@mdnewdirections.org
SUMMARY:Maritime Transportation\, Distribution & Logistics (MTDL)
DESCRIPTION:No Cost career training for positions in Maritime Transportation Distribution & Logistics (MTDL) including logistics\, production assistant\, stevedoring\, warehousing\, vehicle processing\, and more.
URL:https://mdnewdirections.org/events/maritime-transportation-distribution-logistics-mtdl/
LOCATION:Maryland New Directions\, 2305 N. Charles Street\, Suite 100\, Baltimore\, MD\, 21218\, United States
CATEGORIES:Training
ORGANIZER;CN="Maryland New Directions":MAILTO:info@mdnewdirections.org
END:VEVENT
BEGIN:VEVENT
DTSTART;TZID=UTC:20210928T173000
DTEND;TZID=UTC:20210928T203000
DTSTAMP:20260422T022704
CREATED:20210715T213837Z
LAST-MODIFIED:20210804T214720Z
UID:2505-1632850200-1632861000@mdnewdirections.org
SUMMARY:MND's 3rd Annual MVP Event!!
DESCRIPTION:Join MND as we celebrate success! This inspiring event recognizes the success of our MVP’s\, while bringing together special guests\, food\, drinks and fun!
URL:https://mdnewdirections.org/events/mnds-3rd-annual-mvp-event/
LOCATION:Mt Washington Tavern\, 5700 Newberry Street\, Baltimore\, Maryland\, 21209
CATEGORIES:Featured Event
ORGANIZER;CN="Maryland New Directions":MAILTO:info@mdnewdirections.org
END:VEVENT
BEGIN:VEVENT
DTSTART;TZID=UTC:20210907T083000
DTEND;TZID=UTC:20210924T163000
DTSTAMP:20260422T022704
CREATED:20210804T214929Z
LAST-MODIFIED:20210804T215255Z
UID:2686-1631003400-1632501000@mdnewdirections.org
SUMMARY:Commercial Transportation Training
DESCRIPTION:CTC offers introduction into the transportation world\, including passenger vehicles\, CDL-B permit and licensure\, and placement assistance!
URL:https://mdnewdirections.org/events/commercial-transportation-training/
LOCATION:Maryland New Directions\, 2305 N. Charles Street\, Suite 100\, Baltimore\, MD\, 21218\, United States
CATEGORIES:Training
ORGANIZER;CN="Maryland New Directions":MAILTO:info@mdnewdirections.org
END:VEVENT
BEGIN:VEVENT
DTSTART;VALUE=DATE:20210906
DTEND;VALUE=DATE:20210907
DTSTAMP:20260422T022704
CREATED:20210804T220248Z
LAST-MODIFIED:20210804T220248Z
UID:2695-1630886400-1630972799@mdnewdirections.org
SUMMARY:MND Closed for the Holiday
DESCRIPTION:
URL:https://mdnewdirections.org/events/mnd-closed-for-the-holiday/
LOCATION:Maryland New Directions\, 2305 N. Charles Street\, Suite 100\, Baltimore\, MD\, 21218\, United States
CATEGORIES:Community
ORGANIZER;CN="Maryland New Directions":MAILTO:info@mdnewdirections.org
END:VEVENT
BEGIN:VEVENT
DTSTART;TZID=UTC:20210810T100000
DTEND;TZID=UTC:20210810T110000
DTSTAMP:20260422T022704
CREATED:20210804T221453Z
LAST-MODIFIED:20210804T222010Z
UID:2704-1628589600-1628593200@mdnewdirections.org
SUMMARY:Orientation
DESCRIPTION:For those interested in learning more\, or enrolling in a training program\, orientations are held both online and in-person. Learn all about MND\, and get started with a Job Coach immediately! Call 410-230-0630 to register!
URL:https://mdnewdirections.org/events/orientation/
LOCATION:Maryland New Directions\, 2305 N. Charles Street\, Suite 100\, Baltimore\, MD\, 21218\, United States
CATEGORIES:Orientation
ORGANIZER;CN="Maryland New Directions":MAILTO:info@mdnewdirections.org
END:VEVENT
BEGIN:VEVENT
DTSTART;VALUE=DATE:20210802
DTEND;VALUE=DATE:20210821
DTSTAMP:20260422T022704
CREATED:20210715T214617Z
LAST-MODIFIED:20210804T215239Z
UID:2531-1627862400-1629503999@mdnewdirections.org
SUMMARY:Maritime Transportation Distribution & Logistics (MTDL) training program
DESCRIPTION:No Cost career training for positions in Maritime Transportation Distribution & Logistics (MTDL) including logistics\, production assistant\, stevedoring\, warehousing\, vehicle processing\, and more.
URL:https://mdnewdirections.org/events/maritime-transportation-distribution-logistics-mtdl-training-program/
LOCATION:Maryland New Directions\, 2305 N. Charles Street\, Suite 100\, Baltimore\, MD\, 21218\, United States
CATEGORIES:Training
ORGANIZER;CN="Maryland New Directions":MAILTO:info@mdnewdirections.org
END:VEVENT
END:VCALENDAR