BEGIN:VCALENDAR
VERSION:2.0
PRODID:-//Maryland New Directions - ECPv6.15.20//NONSGML v1.0//EN
CALSCALE:GREGORIAN
METHOD:PUBLISH
X-ORIGINAL-URL:https://mdnewdirections.org
X-WR-CALDESC:Events for Maryland New Directions
REFRESH-INTERVAL;VALUE=DURATION:PT1H
X-Robots-Tag:noindex
X-PUBLISHED-TTL:PT1H
BEGIN:VTIMEZONE
TZID:UTC
BEGIN:STANDARD
TZOFFSETFROM:+0000
TZOFFSETTO:+0000
TZNAME:UTC
DTSTART:20210101T000000
END:STANDARD
END:VTIMEZONE
BEGIN:VEVENT
DTSTART;TZID=UTC:20250908T090000
DTEND;TZID=UTC:20250926T150000
DTSTAMP:20260421T195529
CREATED:20250918T161102Z
LAST-MODIFIED:20250918T162906Z
UID:6341-1757322000-1758898800@mdnewdirections.org
SUMMARY:MTDL Training
DESCRIPTION:Training takes place from September 8 to 26\, Monday through Friday from 9am – 3pm. \nOur Maritime\, Transportation\, Distribution & Logistics (MTDL) program provides three weeks (90 hours) of quality instruction to help individuals interested in working in manufacturing\, production\, warehousing\, and supply chain industries establish careers in these fields. Attend an Information Session to learn more and register! Information sessions are held weekly on Tuesdays from 10-11am.
URL:https://mdnewdirections.org/events/mtdl-training-2/
LOCATION:Maryland New Directions\, 2305 N. Charles Street\, Suite 100\, Baltimore\, MD\, 21218\, United States
CATEGORIES:Training
ORGANIZER;CN="Maryland New Directions":MAILTO:info@mdnewdirections.org
END:VEVENT
BEGIN:VEVENT
DTSTART;TZID=UTC:20250908T080000
DTEND;TZID=UTC:20250930T170000
DTSTAMP:20260421T195529
CREATED:20250918T160926Z
LAST-MODIFIED:20250918T160926Z
UID:6339-1757318400-1759251600@mdnewdirections.org
SUMMARY:Career Focus
DESCRIPTION:Career Focus is offered on a rotating basis (Refer to the Career Focus calendar for dates/times). Participants enrolled in an industry-specific training cohort must complete six of nine sessions prior to Day 1 of a training cohort.
URL:https://mdnewdirections.org/events/career-focus-2025-09/
LOCATION:Maryland New Directions\, 2305 N. Charles Street\, Suite 100\, Baltimore\, MD\, 21218\, United States
CATEGORIES:Training
ORGANIZER;CN="Maryland New Directions":MAILTO:info@mdnewdirections.org
END:VEVENT
BEGIN:VEVENT
DTSTART;TZID=UTC:20250903T130000
DTEND;TZID=UTC:20250903T140000
DTSTAMP:20260421T195529
CREATED:20250918T160732Z
LAST-MODIFIED:20250918T160743Z
UID:6337-1756904400-1756908000@mdnewdirections.org
SUMMARY:MTDL Orientation
DESCRIPTION:Our Maritime\, Transportation\, Distribution & Logistics (MTDL) program provides quality instruction to help individuals interested in working in manufacturing\, production\, warehousing\, and supply chain industries establish careers in these fields. \nParticipants registered and enrolled in the September Maritime\, Transportation\, Distribution & Logistics (MTDL) training cohort must attend a mandatory one-hour Orientation to learn more about the training program\, logistics\, and expectations in preparation for the training.
URL:https://mdnewdirections.org/events/mtdl-orientation-2025-09/
LOCATION:Maryland New Directions\, 2305 N. Charles Street\, Suite 100\, Baltimore\, MD\, 21218\, United States
CATEGORIES:Orientation
ORGANIZER;CN="Maryland New Directions":MAILTO:info@mdnewdirections.org
END:VEVENT
BEGIN:VEVENT
DTSTART;VALUE=DATE:20250818
DTEND;VALUE=DATE:20250830
DTSTAMP:20260421T195529
CREATED:20250310T224558Z
LAST-MODIFIED:20250310T225439Z
UID:5913-1755475200-1756511999@mdnewdirections.org
SUMMARY:PST Training
DESCRIPTION:Training takes place from August 18 to 29\, Monday through Friday from 9am – 3pm. \n\n\nOur Professional Skills Training (PST) program provides two weeks (60 hours) of career-focused\, job readiness and soft skills training to prepare individuals for a successful and rewarding career in the hospitality and customer service industries. The skills taught in the PST program are transferable and designed to build confidence and ensure a participant’s success in both the workplace and in life. \n\n\nLearn More
URL:https://mdnewdirections.org/events/pst-training-2025-08/
LOCATION:Maryland New Directions\, 2305 N. Charles Street\, Suite 100\, Baltimore\, MD\, 21218\, United States
CATEGORIES:Training
ORGANIZER;CN="Maryland New Directions":MAILTO:info@mdnewdirections.org
END:VEVENT
BEGIN:VEVENT
DTSTART;VALUE=DATE:20250815
DTEND;VALUE=DATE:20250816
DTSTAMP:20260421T195529
CREATED:20250310T224451Z
LAST-MODIFIED:20250310T225435Z
UID:5911-1755216000-1755302399@mdnewdirections.org
SUMMARY:PST Orientation
DESCRIPTION:Our Professional Skills Training (PST) program provides two weeks (60 hours) of career-focused\, job readiness and soft skills training to prepare individuals for a successful and rewarding career in the hospitality and customer service industries. The skills taught in the PST program are transferable and designed to build confidence and ensure a participant’s success in both the workplace and in life. \n\n\n\nAttend our orientation to learn more and register!
URL:https://mdnewdirections.org/events/pst-orientation-2025-08/
LOCATION:Maryland New Directions\, 2305 N. Charles Street\, Suite 100\, Baltimore\, MD\, 21218\, United States
CATEGORIES:Orientation
ORGANIZER;CN="Maryland New Directions":MAILTO:info@mdnewdirections.org
END:VEVENT
BEGIN:VEVENT
DTSTART;VALUE=DATE:20250811
DTEND;VALUE=DATE:20250830
DTSTAMP:20260421T195529
CREATED:20250310T224340Z
LAST-MODIFIED:20250310T225430Z
UID:5909-1754870400-1756511999@mdnewdirections.org
SUMMARY:MTDL Training
DESCRIPTION:Training takes place from August 11 to 29\, Monday through Friday from 9am – 3pm. \nOur Maritime\, Transportation\, Distribution & Logistics (MTDL) program provides three weeks (90 hours) of quality instruction to help individuals interested in working in manufacturing\, production\, warehousing\, and supply chain industries establish careers in these fields. employment. \nLearn More
URL:https://mdnewdirections.org/events/mtdl-training-2025-08/
LOCATION:Maryland New Directions\, 2305 N. Charles Street\, Suite 100\, Baltimore\, MD\, 21218\, United States
CATEGORIES:Training
ORGANIZER;CN="Maryland New Directions":MAILTO:info@mdnewdirections.org
END:VEVENT
BEGIN:VEVENT
DTSTART;VALUE=DATE:20250805
DTEND;VALUE=DATE:20250806
DTSTAMP:20260421T195529
CREATED:20250310T224247Z
LAST-MODIFIED:20250310T225426Z
UID:5907-1754352000-1754438399@mdnewdirections.org
SUMMARY:MTDL Orientation
DESCRIPTION:Our Maritime\, Transportation\, Distribution & Logistics (MTDL) program provides three weeks (90 hours) of quality instruction to help individuals interested in working in manufacturing\, production\, warehousing\, and supply chain industries establish careers in these fields. employment. \nAttend our orientation to learn more and register!
URL:https://mdnewdirections.org/events/mtdl-orientation-2025-08/
LOCATION:Maryland New Directions\, 2305 N. Charles Street\, Suite 100\, Baltimore\, MD\, 21218\, United States
CATEGORIES:Orientation
ORGANIZER;CN="Maryland New Directions":MAILTO:info@mdnewdirections.org
END:VEVENT
BEGIN:VEVENT
DTSTART;VALUE=DATE:20250714
DTEND;VALUE=DATE:20250802
DTSTAMP:20260421T195529
CREATED:20250310T224041Z
LAST-MODIFIED:20250310T225338Z
UID:5905-1752451200-1754092799@mdnewdirections.org
SUMMARY:CTC Training
DESCRIPTION:Training takes place from July 14 to August 1\, Monday through Friday from 9am – 3pm. \n\n\nOur Commercial Transportation Careers (CTC) program provides 3 weeks (90 hours) of comprehensive CDL-B training\, designed to prepare individuals for a successful and rewarding career in the commercial driving industry. Our expert instructors teach people how to operate a Class B CDL vehicle\, which includes school buses\, transit buses\, motor coach buses\, box trucks\, and large straight trucks. \nLearn More
URL:https://mdnewdirections.org/events/ctc-training-2025-07/
LOCATION:Maryland New Directions\, 2305 N. Charles Street\, Suite 100\, Baltimore\, MD\, 21218\, United States
CATEGORIES:Training
ORGANIZER;CN="Maryland New Directions":MAILTO:info@mdnewdirections.org
END:VEVENT
BEGIN:VEVENT
DTSTART;VALUE=DATE:20250710
DTEND;VALUE=DATE:20250711
DTSTAMP:20260421T195529
CREATED:20250310T223831Z
LAST-MODIFIED:20250310T225344Z
UID:5903-1752105600-1752191999@mdnewdirections.org
SUMMARY:CTC Orientation
DESCRIPTION:Our Commercial Transportation Careers (CTC) program provides 3 weeks (90 hours) of comprehensive CDL-B training\, designed to prepare individuals for a successful and rewarding career in the commercial driving industry. Our expert instructors teach people how to operate a Class B CDL vehicle\, which includes school buses\, transit buses\, motor coach buses\, box trucks\, and large straight trucks. \n\n\nAttend an orientation to learn more and register!
URL:https://mdnewdirections.org/events/ctc-orientation-2025-07/
LOCATION:Maryland New Directions\, 2305 N. Charles Street\, Suite 100\, Baltimore\, MD\, 21218\, United States
CATEGORIES:Orientation
ORGANIZER;CN="Maryland New Directions":MAILTO:info@mdnewdirections.org
END:VEVENT
BEGIN:VEVENT
DTSTART;TZID=UTC:20250609T090000
DTEND;TZID=UTC:20250627T150000
DTSTAMP:20260421T195529
CREATED:20250226T230444Z
LAST-MODIFIED:20250310T225348Z
UID:5895-1749459600-1751036400@mdnewdirections.org
SUMMARY:MTDL Training
DESCRIPTION:Training takes place from June 9 to 27\, Monday through Friday from 9am – 3pm. \nOur Maritime\, Transportation\, Distribution & Logistics (MTDL) program provides three weeks (90 hours) of quality instruction to help individuals interested in working in manufacturing\, production\, warehousing\, and supply chain industries establish careers in these fields. employment. \nLearn More
URL:https://mdnewdirections.org/events/mtdl-training-2025-06/
LOCATION:Maryland New Directions\, 2305 N. Charles Street\, Suite 100\, Baltimore\, MD\, 21218\, United States
CATEGORIES:Training
ORGANIZER;CN="Maryland New Directions":MAILTO:info@mdnewdirections.org
END:VEVENT
BEGIN:VEVENT
DTSTART;VALUE=DATE:20250603
DTEND;VALUE=DATE:20250604
DTSTAMP:20260421T195529
CREATED:20250226T224420Z
LAST-MODIFIED:20250226T230309Z
UID:5877-1748908800-1748995199@mdnewdirections.org
SUMMARY:MTDL Orientation
DESCRIPTION:Our Maritime\, Transportation\, Distribution & Logistics (MTDL) program provides three weeks (90 hours) of quality instruction to help individuals interested in working in manufacturing\, production\, warehousing\, and supply chain industries establish careers in these fields. employment. \nAttend our orientation to learn more and register!
URL:https://mdnewdirections.org/events/mtdl-orientation-2025-06/
LOCATION:Maryland New Directions\, 2305 N. Charles Street\, Suite 100\, Baltimore\, MD\, 21218\, United States
CATEGORIES:Orientation
ORGANIZER;CN="Maryland New Directions":MAILTO:info@mdnewdirections.org
END:VEVENT
BEGIN:VEVENT
DTSTART;VALUE=DATE:20250602
DTEND;VALUE=DATE:20250622
DTSTAMP:20260421T195529
CREATED:20250226T230216Z
LAST-MODIFIED:20250226T230235Z
UID:5893-1748822400-1750550399@mdnewdirections.org
SUMMARY:CTC Training
DESCRIPTION:Training takes place from June 2 to 21\, Monday through Thursday from 6 – 9pm and Saturday from 9am – 1pm. \n\n\nOur Commercial Transportation Careers (CTC) program provides 3 weeks (90 hours) of comprehensive CDL-B training\, designed to prepare individuals for a successful and rewarding career in the commercial driving industry. Our expert instructors teach people how to operate a Class B CDL vehicle\, which includes school buses\, transit buses\, motor coach buses\, box trucks\, and large straight trucks. \nLearn More
URL:https://mdnewdirections.org/events/ctc-training-2025-06/
LOCATION:Maryland New Directions\, 2305 N. Charles Street\, Suite 100\, Baltimore\, MD\, 21218\, United States
CATEGORIES:Training
ORGANIZER;CN="Maryland New Directions":MAILTO:info@mdnewdirections.org
END:VEVENT
BEGIN:VEVENT
DTSTART;VALUE=DATE:20250529
DTEND;VALUE=DATE:20250530
DTSTAMP:20260421T195529
CREATED:20250226T224326Z
LAST-MODIFIED:20250226T225851Z
UID:5875-1748476800-1748563199@mdnewdirections.org
SUMMARY:CTC Orientation
DESCRIPTION:Our Commercial Transportation Careers (CTC) program provides 3 weeks (90 hours) of comprehensive CDL-B training\, designed to prepare individuals for a successful and rewarding career in the commercial driving industry. Our expert instructors teach people how to operate a Class B CDL vehicle\, which includes school buses\, transit buses\, motor coach buses\, box trucks\, and large straight trucks. \n\n\nAttend an orientation to learn more and register!
URL:https://mdnewdirections.org/events/ctc-orientation-2025-05/
LOCATION:Maryland New Directions\, 2305 N. Charles Street\, Suite 100\, Baltimore\, MD\, 21218\, United States
CATEGORIES:Orientation
ORGANIZER;CN="Maryland New Directions":MAILTO:info@mdnewdirections.org
END:VEVENT
BEGIN:VEVENT
DTSTART;TZID=UTC:20250505T090000
DTEND;TZID=UTC:20250516T150000
DTSTAMP:20260421T195529
CREATED:20250226T225645Z
LAST-MODIFIED:20250226T225856Z
UID:5888-1746435600-1747407600@mdnewdirections.org
SUMMARY:PST Training
DESCRIPTION:Training takes place from May 5 to 16\, Monday through Friday from 9am – 3pm. \n\n\nOur Professional Skills Training (PST) program provides two weeks (60 hours) of career-focused\, job readiness and soft skills training to prepare individuals for a successful and rewarding career in the hospitality and customer service industries. The skills taught in the PST program are transferable and designed to build confidence and ensure a participant’s success in both the workplace and in life. \n\n\nLearn More
URL:https://mdnewdirections.org/events/pst-training-2025-05/
LOCATION:Maryland New Directions\, 2305 N. Charles Street\, Suite 100\, Baltimore\, MD\, 21218\, United States
CATEGORIES:Training
ORGANIZER;CN="Maryland New Directions":MAILTO:info@mdnewdirections.org
END:VEVENT
BEGIN:VEVENT
DTSTART;VALUE=DATE:20250502
DTEND;VALUE=DATE:20250503
DTSTAMP:20260421T195529
CREATED:20250226T224131Z
LAST-MODIFIED:20250226T225706Z
UID:5873-1746144000-1746230399@mdnewdirections.org
SUMMARY:PST Orientation
DESCRIPTION:Our Professional Skills Training (PST) program provides two weeks (60 hours) of career-focused\, job readiness and soft skills training to prepare individuals for a successful and rewarding career in the hospitality and customer service industries. The skills taught in the PST program are transferable and designed to build confidence and ensure a participant’s success in both the workplace and in life. \n\n\n\nAttend our orientation to learn more and register!
URL:https://mdnewdirections.org/events/pst-orientation-2025-05/
LOCATION:Maryland New Directions\, 2305 N. Charles Street\, Suite 100\, Baltimore\, MD\, 21218\, United States
CATEGORIES:Orientation
ORGANIZER;CN="Maryland New Directions":MAILTO:info@mdnewdirections.org
END:VEVENT
BEGIN:VEVENT
DTSTART;TZID=UTC:20250428T090000
DTEND;TZID=UTC:20250516T150000
DTSTAMP:20260421T195529
CREATED:20250226T225511Z
LAST-MODIFIED:20250226T225921Z
UID:5886-1745830800-1747407600@mdnewdirections.org
SUMMARY:MDTL Training
DESCRIPTION:Training takes place from April 28 to May 16\, Monday through Friday from 9am – 3pm. \nOur Maritime\, Transportation\, Distribution & Logistics (MTDL) program provides three weeks (90 hours) of quality instruction to help individuals interested in working in manufacturing\, production\, warehousing\, and supply chain industries establish careers in these fields. employment. \nLearn More
URL:https://mdnewdirections.org/events/mdtl-training-2025-04/
LOCATION:Maryland New Directions\, 2305 N. Charles Street\, Suite 100\, Baltimore\, MD\, 21218\, United States
CATEGORIES:Training
ORGANIZER;CN="Maryland New Directions":MAILTO:info@mdnewdirections.org
END:VEVENT
BEGIN:VEVENT
DTSTART;VALUE=DATE:20250422
DTEND;VALUE=DATE:20250423
DTSTAMP:20260421T195529
CREATED:20250226T223956Z
LAST-MODIFIED:20250226T225714Z
UID:5871-1745280000-1745366399@mdnewdirections.org
SUMMARY:MTDL Orientation
DESCRIPTION:Our Maritime\, Transportation\, Distribution & Logistics (MTDL) program provides three weeks (90 hours) of quality instruction to help individuals interested in working in manufacturing\, production\, warehousing\, and supply chain industries establish careers in these fields. employment. \nAttend our orientation to learn more and register!
URL:https://mdnewdirections.org/events/mtdl-orientation-2025-04/
LOCATION:Maryland New Directions\, 2305 N. Charles Street\, Suite 100\, Baltimore\, MD\, 21218\, United States
CATEGORIES:Orientation
ORGANIZER;CN="Maryland New Directions":MAILTO:info@mdnewdirections.org
END:VEVENT
BEGIN:VEVENT
DTSTART;TZID=UTC:20250324T090000
DTEND;TZID=UTC:20250411T150000
DTSTAMP:20260421T195529
CREATED:20250226T225322Z
LAST-MODIFIED:20250226T225928Z
UID:5884-1742806800-1744383600@mdnewdirections.org
SUMMARY:CTC Training
DESCRIPTION:Training takes place from March 24 to April 11\, Monday through Friday from 9am – 3pm. \n\n\nOur Commercial Transportation Careers (CTC) program provides 3 weeks (90 hours) of comprehensive CDL-B training\, designed to prepare individuals for a successful and rewarding career in the commercial driving industry. Our expert instructors teach people how to operate a Class B CDL vehicle\, which includes school buses\, transit buses\, motor coach buses\, box trucks\, and large straight trucks. \n\n\nLearn More
URL:https://mdnewdirections.org/events/ctc-training-2025-03/
LOCATION:Maryland New Directions\, 2305 N. Charles Street\, Suite 100\, Baltimore\, MD\, 21218\, United States
CATEGORIES:Training
ORGANIZER;CN="Maryland New Directions":MAILTO:info@mdnewdirections.org
END:VEVENT
BEGIN:VEVENT
DTSTART;VALUE=DATE:20250320
DTEND;VALUE=DATE:20250321
DTSTAMP:20260421T195529
CREATED:20250226T223713Z
LAST-MODIFIED:20250226T225720Z
UID:5869-1742428800-1742515199@mdnewdirections.org
SUMMARY:CTC Orientation
DESCRIPTION:Our Commercial Transportation Careers (CTC) program provides 3 weeks (90 hours) of comprehensive CDL-B training\, designed to prepare individuals for a successful and rewarding career in the commercial driving industry. Our expert instructors teach people how to operate a Class B CDL vehicle\, which includes school buses\, transit buses\, motor coach buses\, box trucks\, and large straight trucks. \n\n\nAttend an orientation to learn more and register!
URL:https://mdnewdirections.org/events/ctc-orientation-2025-03/
LOCATION:Maryland New Directions\, 2305 N. Charles Street\, Suite 100\, Baltimore\, MD\, 21218\, United States
CATEGORIES:Orientation
ORGANIZER;CN="Maryland New Directions":MAILTO:info@mdnewdirections.org
END:VEVENT
BEGIN:VEVENT
DTSTART;TZID=UTC:20250303T090000
DTEND;TZID=UTC:20250321T150000
DTSTAMP:20260421T195529
CREATED:20250226T224801Z
LAST-MODIFIED:20250226T225934Z
UID:5879-1740992400-1742569200@mdnewdirections.org
SUMMARY:MTDL Training
DESCRIPTION:Training takes place from March 3 to 21\, Monday through Friday from 9am – 3pm. \nOur Maritime\, Transportation\, Distribution & Logistics (MTDL) program provides three weeks (90 hours) of quality instruction to help individuals interested in working in manufacturing\, production\, warehousing\, and supply chain industries establish careers in these fields. employment. \nLearn More
URL:https://mdnewdirections.org/events/mtdl-training-2025-03/
LOCATION:Maryland New Directions\, 2305 N. Charles Street\, Suite 100\, Baltimore\, MD\, 21218\, United States
CATEGORIES:Training
ORGANIZER;CN="Maryland New Directions":MAILTO:info@mdnewdirections.org
END:VEVENT
BEGIN:VEVENT
DTSTART;VALUE=DATE:20250226
DTEND;VALUE=DATE:20250227
DTSTAMP:20260421T195529
CREATED:20250226T223352Z
LAST-MODIFIED:20250226T225728Z
UID:5866-1740528000-1740614399@mdnewdirections.org
SUMMARY:MTDL Orientation
DESCRIPTION:Our Maritime\, Transportation\, Distribution & Logistics (MTDL) program provides three weeks (90 hours) of quality instruction to help individuals interested in working in manufacturing\, production\, warehousing\, and supply chain industries establish careers in these fields. employment. \nAttend our orientation to learn more and register!
URL:https://mdnewdirections.org/events/mtdl-orientation-2025-02/
LOCATION:Maryland New Directions\, 2305 N. Charles Street\, Suite 100\, Baltimore\, MD\, 21218\, United States
CATEGORIES:Orientation
ORGANIZER;CN="Maryland New Directions":MAILTO:info@mdnewdirections.org
END:VEVENT
BEGIN:VEVENT
DTSTART;TZID=UTC:20240926T173000
DTEND;TZID=UTC:20240926T203000
DTSTAMP:20260421T195529
CREATED:20240826T230931Z
LAST-MODIFIED:20240828T161306Z
UID:5448-1727371800-1727382600@mdnewdirections.org
SUMMARY:MND's 6th Annual MVP Event
DESCRIPTION:Join us as we celebrate the accomplishments of our wonderful clients\, staff\, volunteers\, and partners at our annual MVP event! Meet the clients whose stories inspired us most this year and the dedicated individuals who helped make their success possible. Enjoy food and drink from our friends at Mt. Washington Tavern\, win great raffle prizes from local businesses\, and more! \n\n\nWith your support\, Maryland New Directions can offer opportunities for more Baltimore-area residents to access quality\, specialized career training at no cost. Whether you are a long-term supporter of MND or brand new to us\, this event is a great opportunity to learn more about our important\, life-changing work in a relaxed\, fun environment. Come see what we are all about and help make a difference in our community – buy your tickets today! \n\n\n\n\nPurchase Tickets Here\n\n\n\n\n\nSponsor this Event!\n\n\n\n\n\n\nMVP sponsorships are available from $500 – $2\,000. If you are a Maryland resident or a company based in Maryland\, you may qualify for a Maryland State Community Investment Tax Credit for some or all of your contribution! Please email Barbara Reed at breed@mdnewdirections.org to learn more.
URL:https://mdnewdirections.org/events/mnds-6th-annual-mvp-event/
LOCATION:Mt Washington Tavern\, 5700 Newberry Street\, Baltimore\, Maryland\, 21209
CATEGORIES:Featured Event
ATTACH;FMTTYPE=image/jpeg:https://mdnewdirections.org/wp-content/uploads/2024/04/Capture1-1.jpg
ORGANIZER;CN="Maryland New Directions":MAILTO:info@mdnewdirections.org
END:VEVENT
BEGIN:VEVENT
DTSTART;TZID=UTC:20240910T080000
DTEND;TZID=UTC:20240910T170000
DTSTAMP:20260421T195529
CREATED:20240826T230551Z
LAST-MODIFIED:20240827T183717Z
UID:5444-1725955200-1725987600@mdnewdirections.org
SUMMARY:Maritime Transportation Distribution & Logistics (MTDL) Orientation
DESCRIPTION:
URL:https://mdnewdirections.org/events/maritime-transportation-distribution-logistics-mtdl-orientation/
LOCATION:Maryland New Directions\, 2305 N. Charles Street\, Suite 100\, Baltimore\, MD\, 21218\, United States
CATEGORIES:Orientation
ATTACH;FMTTYPE=image/jpeg:https://mdnewdirections.org/wp-content/uploads/2018/03/MND_Maryland-Port-Authority-web.jpg
ORGANIZER;CN="Maryland New Directions":MAILTO:info@mdnewdirections.org
END:VEVENT
BEGIN:VEVENT
DTSTART;TZID=UTC:20240816T080000
DTEND;TZID=UTC:20241004T170000
DTSTAMP:20260421T195529
CREATED:20240826T230749Z
LAST-MODIFIED:20240827T183831Z
UID:5446-1723795200-1728061200@mdnewdirections.org
SUMMARY:Maritime Transportation Distribution & Logistics (MTDL) Training
DESCRIPTION:
URL:https://mdnewdirections.org/events/mtdl-training/
LOCATION:Maryland New Directions\, 2305 N. Charles Street\, Suite 100\, Baltimore\, MD\, 21218\, United States
CATEGORIES:Training
ATTACH;FMTTYPE=image/jpeg:https://mdnewdirections.org/wp-content/uploads/2018/03/MND_Maryland-Port-Authority-web.jpg
ORGANIZER;CN="Maryland New Directions":MAILTO:info@mdnewdirections.org
END:VEVENT
BEGIN:VEVENT
DTSTART;VALUE=DATE:20220530
DTEND;VALUE=DATE:20220531
DTSTAMP:20260421T195529
CREATED:20211124T220553Z
LAST-MODIFIED:20211124T220553Z
UID:3029-1653868800-1653955199@mdnewdirections.org
SUMMARY:MND Closed - Memorial Day
DESCRIPTION:
URL:https://mdnewdirections.org/events/mnd-closed-memorial-day/
LOCATION:Maryland New Directions\, 2305 N. Charles Street\, Suite 100\, Baltimore\, MD\, 21218\, United States
CATEGORIES:Community
ORGANIZER;CN="Maryland New Directions":MAILTO:info@mdnewdirections.org
END:VEVENT
BEGIN:VEVENT
DTSTART;TZID=UTC:20220418T090000
DTEND;TZID=UTC:20220422T150000
DTSTAMP:20260421T195529
CREATED:20220401T212154Z
LAST-MODIFIED:20220401T212154Z
UID:3152-1650272400-1650639600@mdnewdirections.org
SUMMARY:Maritime Transportation\, Distribution & Logistics Training (MTDL) Week 3
DESCRIPTION:The MTDL program offers participants the skills and knowledge needed to secure employment in the Maritime\, Transportation\, Distribution and Logistics industries. MTDL offers a specialized three-week\, 90 hour program which includes 2 years of post-completion/post-employment support and free Forklift Certification for those who complete the training!
URL:https://mdnewdirections.org/events/maritime-transportation-distribution-logistics-training-mtdl-week-3/
LOCATION:Maryland New Directions\, 2305 N. Charles Street\, Suite 100\, Baltimore\, MD\, 21218\, United States
CATEGORIES:Training
ORGANIZER;CN="Maryland New Directions":MAILTO:info@mdnewdirections.org
END:VEVENT
BEGIN:VEVENT
DTSTART;VALUE=DATE:20220415
DTEND;VALUE=DATE:20220416
DTSTAMP:20260421T195529
CREATED:20211124T220340Z
LAST-MODIFIED:20211124T220340Z
UID:3023-1649980800-1650067199@mdnewdirections.org
SUMMARY:MND Closed - Good Friday
DESCRIPTION:
URL:https://mdnewdirections.org/events/mnd-closed-good-friday/
LOCATION:Maryland New Directions\, 2305 N. Charles Street\, Suite 100\, Baltimore\, MD\, 21218\, United States
CATEGORIES:Community
ORGANIZER;CN="Maryland New Directions":MAILTO:info@mdnewdirections.org
END:VEVENT
BEGIN:VEVENT
DTSTART;TZID=UTC:20220411T090000
DTEND;TZID=UTC:20220414T150000
DTSTAMP:20260421T195529
CREATED:20220401T212054Z
LAST-MODIFIED:20220401T212307Z
UID:3150-1649667600-1649948400@mdnewdirections.org
SUMMARY:Maritime Transportation\, Distribution & Logistics Training (MTDL) Week 2
DESCRIPTION:The MTDL program offers participants the skills and knowledge needed to secure employment in the Maritime\, Transportation\, Distribution and Logistics industries. MTDL offers a specialized three-week\, 90 hour program which includes 2 years of post-completion/post-employment support and free Forklift Certification for those who complete the training!
URL:https://mdnewdirections.org/events/maritime-transportation-distribution-logistics-training-mtdl-week-2/
LOCATION:Maryland New Directions\, 2305 N. Charles Street\, Suite 100\, Baltimore\, MD\, 21218\, United States
CATEGORIES:Training
ORGANIZER;CN="Maryland New Directions":MAILTO:info@mdnewdirections.org
END:VEVENT
BEGIN:VEVENT
DTSTART;TZID=UTC:20220404T090000
DTEND;TZID=UTC:20220408T150000
DTSTAMP:20260421T195529
CREATED:20220401T211957Z
LAST-MODIFIED:20220401T211957Z
UID:3148-1649062800-1649430000@mdnewdirections.org
SUMMARY:Maritime Transportation\, Distribution & Logistics Training (MTDL) Week 1
DESCRIPTION:The MTDL program offers participants the skills and knowledge needed to secure employment in the Maritime\, Transportation\, Distribution and Logistics industries. MTDL offers a specialized three-week\, 90 hour program which includes 2 years of post-completion/post-employment support and free Forklift Certification for those who complete the training!
URL:https://mdnewdirections.org/events/maritime-transportation-distribution-logistics-training-mtdl-week-1/
LOCATION:Maryland New Directions\, 2305 N. Charles Street\, Suite 100\, Baltimore\, MD\, 21218\, United States
CATEGORIES:Training
ORGANIZER;CN="Maryland New Directions":MAILTO:info@mdnewdirections.org
END:VEVENT
BEGIN:VEVENT
DTSTART;TZID=UTC:20220307T180000
DTEND;TZID=UTC:20220325T200000
DTSTAMP:20260421T195529
CREATED:20211124T221034Z
LAST-MODIFIED:20211124T221034Z
UID:3033-1646676000-1648238400@mdnewdirections.org
SUMMARY:Commercial Transportation Careers Training (PM & Saturdays)
DESCRIPTION:
URL:https://mdnewdirections.org/events/commercial-transportation-careers-training-pm-saturdays/
LOCATION:Maryland New Directions\, 2305 N. Charles Street\, Suite 100\, Baltimore\, MD\, 21218\, United States
CATEGORIES:Training
ORGANIZER;CN="Maryland New Directions":MAILTO:info@mdnewdirections.org
END:VEVENT
END:VCALENDAR