BEGIN:VCALENDAR
VERSION:2.0
PRODID:-//Maryland New Directions - ECPv6.15.20//NONSGML v1.0//EN
CALSCALE:GREGORIAN
METHOD:PUBLISH
X-WR-CALNAME:Maryland New Directions
X-ORIGINAL-URL:https://mdnewdirections.org
X-WR-CALDESC:Events for Maryland New Directions
REFRESH-INTERVAL;VALUE=DURATION:PT1H
X-Robots-Tag:noindex
X-PUBLISHED-TTL:PT1H
BEGIN:VTIMEZONE
TZID:UTC
BEGIN:STANDARD
TZOFFSETFROM:+0000
TZOFFSETTO:+0000
TZNAME:UTC
DTSTART:20240101T000000
END:STANDARD
END:VTIMEZONE
BEGIN:VEVENT
DTSTART;TZID=UTC:20250324T090000
DTEND;TZID=UTC:20250411T150000
DTSTAMP:20260421T230731
CREATED:20250226T225322Z
LAST-MODIFIED:20250226T225928Z
UID:5884-1742806800-1744383600@mdnewdirections.org
SUMMARY:CTC Training
DESCRIPTION:Training takes place from March 24 to April 11\, Monday through Friday from 9am – 3pm. \n\n\nOur Commercial Transportation Careers (CTC) program provides 3 weeks (90 hours) of comprehensive CDL-B training\, designed to prepare individuals for a successful and rewarding career in the commercial driving industry. Our expert instructors teach people how to operate a Class B CDL vehicle\, which includes school buses\, transit buses\, motor coach buses\, box trucks\, and large straight trucks. \n\n\nLearn More
URL:https://mdnewdirections.org/events/ctc-training-2025-03/
LOCATION:Maryland New Directions\, 2305 N. Charles Street\, Suite 100\, Baltimore\, MD\, 21218\, United States
CATEGORIES:Training
ORGANIZER;CN="Maryland New Directions":MAILTO:info@mdnewdirections.org
END:VEVENT
END:VCALENDAR