BEGIN:VCALENDAR
VERSION:2.0
PRODID:-//Maryland New Directions - ECPv6.15.20//NONSGML v1.0//EN
CALSCALE:GREGORIAN
METHOD:PUBLISH
X-WR-CALNAME:Maryland New Directions
X-ORIGINAL-URL:https://mdnewdirections.org
X-WR-CALDESC:Events for Maryland New Directions
REFRESH-INTERVAL;VALUE=DURATION:PT1H
X-Robots-Tag:noindex
X-PUBLISHED-TTL:PT1H
BEGIN:VTIMEZONE
TZID:UTC
BEGIN:STANDARD
TZOFFSETFROM:+0000
TZOFFSETTO:+0000
TZNAME:UTC
DTSTART:20250101T000000
END:STANDARD
END:VTIMEZONE
BEGIN:VEVENT
DTSTART;TZID=UTC:20260706T090000
DTEND;TZID=UTC:20260717T150000
DTSTAMP:20260421T195404
CREATED:20260225T200542Z
LAST-MODIFIED:20260225T200542Z
UID:6832-1783328400-1784300400@mdnewdirections.org
SUMMARY:CTC Cohort
DESCRIPTION:Training takes place from July 6 to 17\, Monday through Friday from 9am – 3pm. \nOur Commercial Transportation Careers (CTC) program provides 2 weeks (60 hours) of quality instruction to help individuals interested in earning their CDL-B license prepare for the CDL-B Learner’s Permit exam (CLP)\, including general knowledge\, air brakes\, and passenger\, school bus\, and tanker endorsements. Attend an Information Session to learn more and register!  Information sessions are held weekly on Tuesdays from 10-11am.
URL:https://mdnewdirections.org/events/ctc-cohort-2026-07/
LOCATION:Maryland New Directions\, 2305 N. Charles Street\, Suite 100\, Baltimore\, MD\, 21218\, United States
CATEGORIES:Training
ORGANIZER;CN="Maryland New Directions":MAILTO:info@mdnewdirections.org
END:VEVENT
END:VCALENDAR